Workbook
Name BOYS_10: Sheet1!$A$4:$A$16
Name BOYS_12: Sheet1!$B$4:$B$16
Name BOYS_14: Sheet1!$C$4:$C$16
Name BOYS_17: Sheet1!$D$4:$D$16
Name BOYS_19: Sheet1!$E$4:$E$16
Name GIRLS_10: Sheet1!$F$4:$F$16
Name GIRLS_12: Sheet1!$G$4:$G$16
Name GIRLS_14: Sheet1!$H$4:$H$16
Name GIRLS_17: Sheet1!$I$4:$I$16
Name GIRLS_19: Sheet1!$J$4:$J$16

Sheet ENTRY FORM 2026
D2: TWIN ATHLETICS MEET | M2: ENTRY FEE PER ATHLETE | N2: Rs. 200/-
D3: INTER-SCHOOL ATHLETICS MEET
D4: 0rganised by: ATHLETIC FOUNDATION | M4: TOTAL ENTRY FEE Rs. | N4: =IF(C12="","",COUNTA(_xlfn._TRO_TRAILING($C12:$C111))*200)
D5: NEHRU STADIUM - COIMBATORE : : 10th JULY 2026
D6: ENTRIES SHOULD BE SENT TO : athleticfoundationindia@gmail.com | I6: For Enqueries Regarding Entries : 9487712509, 9363203040 | M6: SCAN AND PAY
B8: TEAM MANAGER'S NAME: | E8: LAST DATE FOR RECEIPT OF ENTRIES : 07/07/2026
B10: CONTACT No.: | E10: DATE OF BIRTH | H10: AGE | I10: GENDER | J10: AGE GROUP
B11: Sl No. | C11: NAME OF THE ATHLETE | D11: NAME OF THE SCHOOL | E11: DATE | F11: MONTH | G11: YEAR | K11: EVENT-1 | L11: EVENT-2 | M11: RELAY | N11: UPI TRANSACTION ID
B12: {=IF(C12="","",_xlfn.SEQUENCE(COUNTA(C12:C111)))} | H12: =Sheet1!P12 -> - | J12: =IFERROR(CONCATENATE(I12,"_",Sheet1!S12),"-") -> _
H13: =Sheet1!P13 -> - | J13: =IFERROR(CONCATENATE($I13,"_",Sheet1!$Q13),"-") -> _
H14: =Sheet1!P14 -> - | J14: =IFERROR(CONCATENATE(I14,"_",Sheet1!Q14),"-") -> _
H15: =Sheet1!P15 -> - | J15: =IFERROR(CONCATENATE(I15,"_",Sheet1!Q15),"-") -> _
H16: =Sheet1!P16 -> - | J16: =IFERROR(CONCATENATE(I16,"_",Sheet1!Q16),"-") -> _
H17: =Sheet1!P17 -> - | J17: =IFERROR(CONCATENATE(I17,"_",Sheet1!Q17),"-") -> _
H18: =Sheet1!P18 -> - | J18: =IFERROR(CONCATENATE(I18,"_",Sheet1!Q18),"-") -> _
H19: =Sheet1!P19 -> - | J19: =IFERROR(CONCATENATE(I19,"_",Sheet1!Q19),"-") -> _
H20: =Sheet1!P20 -> - | J20: =IFERROR(CONCATENATE(I20,"_",Sheet1!Q20),"-") -> _
H21: =Sheet1!P21 -> - | J21: =IFERROR(CONCATENATE(I21,"_",Sheet1!Q21),"-") -> _
H22: =Sheet1!P22 -> - | J22: =IFERROR(CONCATENATE(I22,"_",Sheet1!Q22),"-") -> _
H23: =Sheet1!P23 -> - | J23: =IFERROR(CONCATENATE(I23,"_",Sheet1!Q23),"-") -> _
H24: =Sheet1!P24 -> - | J24: =IFERROR(CONCATENATE(I24,"_",Sheet1!Q24),"-") -> _
H25: =Sheet1!P25 -> - | J25: =IFERROR(CONCATENATE(I25,"_",Sheet1!Q25),"-") -> _
... H110: =Sheet1!P110 -> - | J110: =IFERROR(CONCATENATE(I110,"_",Sheet1!Q110),"-") -> _
B111: {=IF(C111="","",_xlfn.SEQUENCE(COUNTA(C111:C210)))} | H111: =Sheet1!P111 -> - | J111: =IFERROR(CONCATENATE(I111,"_",Sheet1!Q111),"-") -> _

Sheet Sheet1
R2: 46387
A3: BOYS 10 | B3: BOYS 12 | C3: BOYS 14 | D3: BOYS 17 | E3: BOYS 19 | F3: GIRLS 10 | G3: GIRLS 12 | H3: GIRLS 14 | I3: GIRLS 17 | J3: GIRLS 19
A4: 50 M RUN | B4: 60 M RUN | C4: 100 M RUN | D4: 100 M RUN | E4: 100 M RUN | F4: 50 M RUN | G4: 60 M RUN | H4: 100 M RUN | I4: 100 M RUN | J4: 100 M RUN
A5: 100 M RUN | B5: 200 M RUN | C5: 200 M RUN | D5: 300 M RUN | E5: 400 M RUN | F5: 100 M RUN | G5: 200 M RUN | H5: 200 M RUN | I5: 300 M RUN | J5: 400 M RUN
A6: STANDING BROAD JUMP | B6: LONG JUMP (5 M RUNWAY) | C6: 600 M RUN | D6: 800 M RUN | E6: 1500 M RUN | F6: STANDING BROAD JUMP | G6: LONG JUMP (5 M RUNWAY) | H6: 600 M RUN | I6: 800 M RUN | J6: 1500 M RUN
A7: THROW BALL | B7: THROW BALL | C7: 80 M HURDLES | D7: 100 M HURDLES | E7: 110 M HURDLES | F7: THROW BALL | G7: THROW BALL | H7: 80 M HURDLES | I7: 100 M HURDLES | J7: 100 M HURDLES
C8: LONG JUMP | D8: LONG JUMP | E8: LONG JUMP | H8: LONG JUMP | I8: LONG JUMP | J8: LONG JUMP
C9: HIGH JUMP | D9: HIGH JUMP | E9: HIGH JUMP | H9: HIGH JUMP | I9: HIGH JUMP | J9: HIGH JUMP
C10: SHOT PUT | D10: TRIPLE JUMP | E10: TRIPLE JUMP | H10: SHOT PUT | I10: TRIPLE JUMP | J10: TRIPLE JUMP
C11: 4 x 100 M RELAY | D11: SHOT PUT | E11: SHOT PUT | H11: 4 x 100 M RELAY | I11: SHOT PUT | J11: SHOT PUT
D12: DISCUS THROW | E12: DISCUS THROW | I12: DISCUS THROW | J12: DISCUS THROW | P12: =IFERROR(DATEDIF(R12,$R$2,"y"),"-") -> - | Q12: =IFERROR(IF(AND(DATEDIF($R12,$R$2,"Y")>=4,DATEDIF($R12,$R$2,"Y")<=6),"NE",IF(AND(DATEDIF($R12,$R$2,"Y")>=7,DATEDIF($R12,$R$2,"Y")<=9),"10",IF(AND(DATEDIF($R12,$R$2,"Y")>=10,DATEDIF($R12,$R$2,"Y")<=11),"12",IF(AND(DATEDIF($R12,$R$2,"Y")>=12,DATEDIF($R12,$R$2,"Y")<=13),"14",IF(AND(DATEDIF($R12,$R$2,"Y")>=14,DATEDIF($R12,$R$2,"Y")<=16),"17",IF(AND(DATEDIF($R12,$R$2,"Y")>=17,DATEDIF($R12,$R$2,"Y")<=18),"19","NE"))))))," ") | R12: =CONCATENATE('ENTRY FORM 2026'!E12,"-",'ENTRY FORM 2026'!F12,"-",'ENTRY FORM 2026'!G12) -> -- | S12: =IFERROR(LOOKUP(DATEDIF($R12,$R$2,"Y"),{0,4,7,10,12,14,17,19},{"";"NE";"10";"12";"14";"17";"19";"NE"}),"")
D13: JAVELIN THROW | E13: JAVELIN THROW | I13: JAVELIN THROW | J13: JAVELIN THROW | P13: =IFERROR(DATEDIF(R13,$R$2,"y"),"-") -> - | Q13: =IFERROR(IF(AND(DATEDIF($R13,$R$2,"Y")>=4,DATEDIF($R13,$R$2,"Y")<=6),"NE",IF(AND(DATEDIF($R13,$R$2,"Y")>=7,DATEDIF($R13,$R$2,"Y")<=9),"10",IF(AND(DATEDIF($R13,$R$2,"Y")>=10,DATEDIF($R13,$R$2,"Y")<=11),"12",IF(AND(DATEDIF($R13,$R$2,"Y")>=12,DATEDIF($R13,$R$2,"Y")<=13),"14",IF(AND(DATEDIF($R13,$R$2,"Y")>=14,DATEDIF($R13,$R$2,"Y")<=16),"17",IF(AND(DATEDIF($R13,$R$2,"Y")>=17,DATEDIF($R13,$R$2,"Y")<=18),"19","NE"))))))," ") | R13: =CONCATENATE('ENTRY FORM 2026'!E13,"-",'ENTRY FORM 2026'!F13,"-",'ENTRY FORM 2026'!G13) -> -- | S13: =IFERROR(LOOKUP(DATEDIF($R13,$R$2,"Y"),{0,4,7,10,12,14,17,19},{"";"NE";"10";"12";"14";"17";"19";"NE"}),"")
D14: 4 x 100 M RELAY | E14: 4 x 400 M RELAY | I14: 4 x 100 M RELAY | J14: 4 x 400 M RELAY | P14: =IFERROR(DATEDIF(R14,$R$2,"y"),"-") -> - | Q14: =IFERROR(IF(AND(DATEDIF($R14,$R$2,"Y")>=4,DATEDIF($R14,$R$2,"Y")<=6),"NE",IF(AND(DATEDIF($R14,$R$2,"Y")>=7,DATEDIF($R14,$R$2,"Y")<=9),"10",IF(AND(DATEDIF($R14,$R$2,"Y")>=10,DATEDIF($R14,$R$2,"Y")<=11),"12",IF(AND(DATEDIF($R14,$R$2,"Y")>=12,DATEDIF($R14,$R$2,"Y")<=13),"14",IF(AND(DATEDIF($R14,$R$2,"Y")>=14,DATEDIF($R14,$R$2,"Y")<=16),"17",IF(AND(DATEDIF($R14,$R$2,"Y")>=17,DATEDIF($R14,$R$2,"Y")<=18),"19","NE"))))))," ") | R14: =CONCATENATE('ENTRY FORM 2026'!E14,"-",'ENTRY FORM 2026'!F14,"-",'ENTRY FORM 2026'!G14) -> -- | S14: =IFERROR(LOOKUP(DATEDIF($R14,$R$2,"Y"),{0,4,7,10,12,14,17,19},{"";"NE";"10";"12";"14";"17";"19";"NE"}),"")
P15: =IFERROR(DATEDIF(R15,$R$2,"y"),"-") -> - | Q15: =IFERROR(IF(AND(DATEDIF($R15,$R$2,"Y")>=4,DATEDIF($R15,$R$2,"Y")<=6),"NE",IF(AND(DATEDIF($R15,$R$2,"Y")>=7,DATEDIF($R15,$R$2,"Y")<=9),"10",IF(AND(DATEDIF($R15,$R$2,"Y")>=10,DATEDIF($R15,$R$2,"Y")<=11),"12",IF(AND(DATEDIF($R15,$R$2,"Y")>=12,DATEDIF($R15,$R$2,"Y")<=13),"14",IF(AND(DATEDIF($R15,$R$2,"Y")>=14,DATEDIF($R15,$R$2,"Y")<=16),"17",IF(AND(DATEDIF($R15,$R$2,"Y")>=17,DATEDIF($R15,$R$2,"Y")<=18),"19","NE"))))))," ") | R15: =CONCATENATE('ENTRY FORM 2026'!E15,"-",'ENTRY FORM 2026'!F15,"-",'ENTRY FORM 2026'!G15) -> -- | S15: =IFERROR(LOOKUP(DATEDIF($R15,$R$2,"Y"),{0,4,7,10,12,14,17,19},{"";"NE";"10";"12";"14";"17";"19";"NE"}),"")
P16: =IFERROR(DATEDIF(R16,$R$2,"y"),"-") -> - | Q16: =IFERROR(IF(AND(DATEDIF($R16,$R$2,"Y")>=4,DATEDIF($R16,$R$2,"Y")<=6),"NE",IF(AND(DATEDIF($R16,$R$2,"Y")>=7,DATEDIF($R16,$R$2,"Y")<=9),"10",IF(AND(DATEDIF($R16,$R$2,"Y")>=10,DATEDIF($R16,$R$2,"Y")<=11),"12",IF(AND(DATEDIF($R16,$R$2,"Y")>=12,DATEDIF($R16,$R$2,"Y")<=13),"14",IF(AND(DATEDIF($R16,$R$2,"Y")>=14,DATEDIF($R16,$R$2,"Y")<=16),"17",IF(AND(DATEDIF($R16,$R$2,"Y")>=17,DATEDIF($R16,$R$2,"Y")<=18),"19","NE"))))))," ") | R16: =CONCATENATE('ENTRY FORM 2026'!E16,"-",'ENTRY FORM 2026'!F16,"-",'ENTRY FORM 2026'!G16) -> -- | S16: =IFERROR(LOOKUP(DATEDIF($R16,$R$2,"Y"),{0,4,7,10,12,14,17,19},{"";"NE";"10";"12";"14";"17";"19";"NE"}),"")
P17: =IFERROR(DATEDIF(R17,$R$2,"y"),"-") -> - | Q17: =IFERROR(IF(AND(DATEDIF($R17,$R$2,"Y")>=4,DATEDIF($R17,$R$2,"Y")<=6),"NE",IF(AND(DATEDIF($R17,$R$2,"Y")>=7,DATEDIF($R17,$R$2,"Y")<=9),"10",IF(AND(DATEDIF($R17,$R$2,"Y")>=10,DATEDIF($R17,$R$2,"Y")<=11),"12",IF(AND(DATEDIF($R17,$R$2,"Y")>=12,DATEDIF($R17,$R$2,"Y")<=13),"14",IF(AND(DATEDIF($R17,$R$2,"Y")>=14,DATEDIF($R17,$R$2,"Y")<=16),"17",IF(AND(DATEDIF($R17,$R$2,"Y")>=17,DATEDIF($R17,$R$2,"Y")<=18),"19","NE"))))))," ") | R17: =CONCATENATE('ENTRY FORM 2026'!E17,"-",'ENTRY FORM 2026'!F17,"-",'ENTRY FORM 2026'!G17) -> -- | S17: =IFERROR(LOOKUP(DATEDIF($R17,$R$2,"Y"),{0,4,7,10,12,14,17,19},{"";"NE";"10";"12";"14";"17";"19";"NE"}),"")
P18: =IFERROR(DATEDIF(R18,$R$2,"y"),"-") -> - | Q18: =IFERROR(IF(AND(DATEDIF($R18,$R$2,"Y")>=4,DATEDIF($R18,$R$2,"Y")<=6),"NE",IF(AND(DATEDIF($R18,$R$2,"Y")>=7,DATEDIF($R18,$R$2,"Y")<=9),"10",IF(AND(DATEDIF($R18,$R$2,"Y")>=10,DATEDIF($R18,$R$2,"Y")<=11),"12",IF(AND(DATEDIF($R18,$R$2,"Y")>=12,DATEDIF($R18,$R$2,"Y")<=13),"14",IF(AND(DATEDIF($R18,$R$2,"Y")>=14,DATEDIF($R18,$R$2,"Y")<=16),"17",IF(AND(DATEDIF($R18,$R$2,"Y")>=17,DATEDIF($R18,$R$2,"Y")<=18),"19","NE"))))))," ") | R18: =CONCATENATE('ENTRY FORM 2026'!E18,"-",'ENTRY FORM 2026'!F18,"-",'ENTRY FORM 2026'!G18) -> -- | S18: =IFERROR(LOOKUP(DATEDIF($R18,$R$2,"Y"),{0,4,7,10,12,14,17,19},{"";"NE";"10";"12";"14";"17";"19";"NE"}),"")
P19: =IFERROR(DATEDIF(R19,$R$2,"y"),"-") -> - | Q19: =IFERROR(IF(AND(DATEDIF($R19,$R$2,"Y")>=4,DATEDIF($R19,$R$2,"Y")<=6),"NE",IF(AND(DATEDIF($R19,$R$2,"Y")>=7,DATEDIF($R19,$R$2,"Y")<=9),"10",IF(AND(DATEDIF($R19,$R$2,"Y")>=10,DATEDIF($R19,$R$2,"Y")<=11),"12",IF(AND(DATEDIF($R19,$R$2,"Y")>=12,DATEDIF($R19,$R$2,"Y")<=13),"14",IF(AND(DATEDIF($R19,$R$2,"Y")>=14,DATEDIF($R19,$R$2,"Y")<=16),"17",IF(AND(DATEDIF($R19,$R$2,"Y")>=17,DATEDIF($R19,$R$2,"Y")<=18),"19","NE"))))))," ") | R19: =CONCATENATE('ENTRY FORM 2026'!E19,"-",'ENTRY FORM 2026'!F19,"-",'ENTRY FORM 2026'!G19) -> -- | S19: =IFERROR(LOOKUP(DATEDIF($R19,$R$2,"Y"),{0,4,7,10,12,14,17,19},{"";"NE";"10";"12";"14";"17";"19";"NE"}),"")
P20: =IFERROR(DATEDIF(R20,$R$2,"y"),"-") -> - | Q20: =IFERROR(IF(AND(DATEDIF($R20,$R$2,"Y")>=4,DATEDIF($R20,$R$2,"Y")<=6),"NE",IF(AND(DATEDIF($R20,$R$2,"Y")>=7,DATEDIF($R20,$R$2,"Y")<=9),"10",IF(AND(DATEDIF($R20,$R$2,"Y")>=10,DATEDIF($R20,$R$2,"Y")<=11),"12",IF(AND(DATEDIF($R20,$R$2,"Y")>=12,DATEDIF($R20,$R$2,"Y")<=13),"14",IF(AND(DATEDIF($R20,$R$2,"Y")>=14,DATEDIF($R20,$R$2,"Y")<=16),"17",IF(AND(DATEDIF($R20,$R$2,"Y")>=17,DATEDIF($R20,$R$2,"Y")<=18),"19","NE"))))))," ") | R20: =CONCATENATE('ENTRY FORM 2026'!E20,"-",'ENTRY FORM 2026'!F20,"-",'ENTRY FORM 2026'!G20) -> -- | S20: =IFERROR(LOOKUP(DATEDIF($R20,$R$2,"Y"),{0,4,7,10,12,14,17,19},{"";"NE";"10";"12";"14";"17";"19";"NE"}),"")
P21: =IFERROR(DATEDIF(R21,$R$2,"y"),"-") -> - | Q21: =IFERROR(IF(AND(DATEDIF($R21,$R$2,"Y")>=4,DATEDIF($R21,$R$2,"Y")<=6),"NE",IF(AND(DATEDIF($R21,$R$2,"Y")>=7,DATEDIF($R21,$R$2,"Y")<=9),"10",IF(AND(DATEDIF($R21,$R$2,"Y")>=10,DATEDIF($R21,$R$2,"Y")<=11),"12",IF(AND(DATEDIF($R21,$R$2,"Y")>=12,DATEDIF($R21,$R$2,"Y")<=13),"14",IF(AND(DATEDIF($R21,$R$2,"Y")>=14,DATEDIF($R21,$R$2,"Y")<=16),"17",IF(AND(DATEDIF($R21,$R$2,"Y")>=17,DATEDIF($R21,$R$2,"Y")<=18),"19","NE"))))))," ") | R21: =CONCATENATE('ENTRY FORM 2026'!E21,"-",'ENTRY FORM 2026'!F21,"-",'ENTRY FORM 2026'!G21) -> -- | S21: =IFERROR(LOOKUP(DATEDIF($R21,$R$2,"Y"),{0,4,7,10,12,14,17,19},{"";"NE";"10";"12";"14";"17";"19";"NE"}),"")
P22: =IFERROR(DATEDIF(R22,$R$2,"y"),"-") -> - | Q22: =IFERROR(IF(AND(DATEDIF($R22,$R$2,"Y")>=4,DATEDIF($R22,$R$2,"Y")<=6),"NE",IF(AND(DATEDIF($R22,$R$2,"Y")>=7,DATEDIF($R22,$R$2,"Y")<=9),"10",IF(AND(DATEDIF($R22,$R$2,"Y")>=10,DATEDIF($R22,$R$2,"Y")<=11),"12",IF(AND(DATEDIF($R22,$R$2,"Y")>=12,DATEDIF($R22,$R$2,"Y")<=13),"14",IF(AND(DATEDIF($R22,$R$2,"Y")>=14,DATEDIF($R22,$R$2,"Y")<=16),"17",IF(AND(DATEDIF($R22,$R$2,"Y")>=17,DATEDIF($R22,$R$2,"Y")<=18),"19","NE"))))))," ") | R22: =CONCATENATE('ENTRY FORM 2026'!E22,"-",'ENTRY FORM 2026'!F22,"-",'ENTRY FORM 2026'!G22) -> -- | S22: =IFERROR(LOOKUP(DATEDIF($R22,$R$2,"Y"),{0,4,7,10,12,14,17,19},{"";"NE";"10";"12";"14";"17";"19";"NE"}),"")
P23: =IFERROR(DATEDIF(R23,$R$2,"y"),"-") -> - | Q23: =IFERROR(IF(AND(DATEDIF($R23,$R$2,"Y")>=4,DATEDIF($R23,$R$2,"Y")<=6),"NE",IF(AND(DATEDIF($R23,$R$2,"Y")>=7,DATEDIF($R23,$R$2,"Y")<=9),"10",IF(AND(DATEDIF($R23,$R$2,"Y")>=10,DATEDIF($R23,$R$2,"Y")<=11),"12",IF(AND(DATEDIF($R23,$R$2,"Y")>=12,DATEDIF($R23,$R$2,"Y")<=13),"14",IF(AND(DATEDIF($R23,$R$2,"Y")>=14,DATEDIF($R23,$R$2,"Y")<=16),"17",IF(AND(DATEDIF($R23,$R$2,"Y")>=17,DATEDIF($R23,$R$2,"Y")<=18),"19","NE"))))))," ") | R23: =CONCATENATE('ENTRY FORM 2026'!E23,"-",'ENTRY FORM 2026'!F23,"-",'ENTRY FORM 2026'!G23) -> -- | S23: =IFERROR(LOOKUP(DATEDIF($R23,$R$2,"Y"),{0,4,7,10,12,14,17,19},{"";"NE";"10";"12";"14";"17";"19";"NE"}),"")
P24: =IFERROR(DATEDIF(R24,$R$2,"y"),"-") -> - | Q24: =IFERROR(IF(AND(DATEDIF($R24,$R$2,"Y")>=4,DATEDIF($R24,$R$2,"Y")<=6),"NE",IF(AND(DATEDIF($R24,$R$2,"Y")>=7,DATEDIF($R24,$R$2,"Y")<=9),"10",IF(AND(DATEDIF($R24,$R$2,"Y")>=10,DATEDIF($R24,$R$2,"Y")<=11),"12",IF(AND(DATEDIF($R24,$R$2,"Y")>=12,DATEDIF($R24,$R$2,"Y")<=13),"14",IF(AND(DATEDIF($R24,$R$2,"Y")>=14,DATEDIF($R24,$R$2,"Y")<=16),"17",IF(AND(DATEDIF($R24,$R$2,"Y")>=17,DATEDIF($R24,$R$2,"Y")<=18),"19","NE"))))))," ") | R24: =CONCATENATE('ENTRY FORM 2026'!E24,"-",'ENTRY FORM 2026'!F24,"-",'ENTRY FORM 2026'!G24) -> -- | S24: =IFERROR(LOOKUP(DATEDIF($R24,$R$2,"Y"),{0,4,7,10,12,14,17,19},{"";"NE";"10";"12";"14";"17";"19";"NE"}),"")
P25: =IFERROR(DATEDIF(R25,$R$2,"y"),"-") -> - | Q25: =IFERROR(IF(AND(DATEDIF($R25,$R$2,"Y")>=4,DATEDIF($R25,$R$2,"Y")<=6),"NE",IF(AND(DATEDIF($R25,$R$2,"Y")>=7,DATEDIF($R25,$R$2,"Y")<=9),"10",IF(AND(DATEDIF($R25,$R$2,"Y")>=10,DATEDIF($R25,$R$2,"Y")<=11),"12",IF(AND(DATEDIF($R25,$R$2,"Y")>=12,DATEDIF($R25,$R$2,"Y")<=13),"14",IF(AND(DATEDIF($R25,$R$2,"Y")>=14,DATEDIF($R25,$R$2,"Y")<=16),"17",IF(AND(DATEDIF($R25,$R$2,"Y")>=17,DATEDIF($R25,$R$2,"Y")<=18),"19","NE"))))))," ") | R25: =CONCATENATE('ENTRY FORM 2026'!E25,"-",'ENTRY FORM 2026'!F25,"-",'ENTRY FORM 2026'!G25) -> -- | S25: =IFERROR(LOOKUP(DATEDIF($R25,$R$2,"Y"),{0,4,7,10,12,14,17,19},{"";"NE";"10";"12";"14";"17";"19";"NE"}),"")
P26: =IFERROR(DATEDIF(R26,$R$2,"y"),"-") -> - | Q26: =IFERROR(IF(AND(DATEDIF($R26,$R$2,"Y")>=4,DATEDIF($R26,$R$2,"Y")<=6),"NE",IF(AND(DATEDIF($R26,$R$2,"Y")>=7,DATEDIF($R26,$R$2,"Y")<=9),"10",IF(AND(DATEDIF($R26,$R$2,"Y")>=10,DATEDIF($R26,$R$2,"Y")<=11),"12",IF(AND(DATEDIF($R26,$R$2,"Y")>=12,DATEDIF($R26,$R$2,"Y")<=13),"14",IF(AND(DATEDIF($R26,$R$2,"Y")>=14,DATEDIF($R26,$R$2,"Y")<=16),"17",IF(AND(DATEDIF($R26,$R$2,"Y")>=17,DATEDIF($R26,$R$2,"Y")<=18),"19","NE"))))))," ") | R26: =CONCATENATE('ENTRY FORM 2026'!E26,"-",'ENTRY FORM 2026'!F26,"-",'ENTRY FORM 2026'!G26) -> -- | S26: =IFERROR(LOOKUP(DATEDIF($R26,$R$2,"Y"),{0,4,7,10,12,14,17,19},{"";"NE";"10";"12";"14";"17";"19";"NE"}),"")
... P200: =IFERROR(DATEDIF(R200,$R$2,"y"),"-") -> - | Q200: =IFERROR(IF(AND(DATEDIF($R200,$R$2,"Y")>=4,DATEDIF($R200,$R$2,"Y")<=6),"NE",IF(AND(DATEDIF($R200,$R$2,"Y")>=7,DATEDIF($R200,$R$2,"Y")<=9),"10",IF(AND(DATEDIF($R200,$R$2,"Y")>=10,DATEDIF($R200,$R$2,"Y")<=11),"12",IF(AND(DATEDIF($R200,$R$2,"Y")>=12,DATEDIF($R200,$R$2,"Y")<=13),"14",IF(AND(DATEDIF($R200,$R$2,"Y")>=14,DATEDIF($R200,$R$2,"Y")<=16),"17",IF(AND(DATEDIF($R200,$R$2,"Y")>=17,DATEDIF($R200,$R$2,"Y")<=18),"19","NE"))))))," ") | R200: =CONCATENATE('ENTRY FORM 2026'!E200,"-",'ENTRY FORM 2026'!F200,"-",'ENTRY FORM 2026'!G200) -> -- | S200: =IFERROR(LOOKUP(DATEDIF($R200,$R$2,"Y"),{0,4,7,10,12,14,17,19},{"";"NE";"10";"12";"14";"17";"19";"NE"}),"")
